BEGIN:VCALENDAR
VERSION:2.0
PRODID:-//The Ara Code - ECPv6.15.13.1//NONSGML v1.0//EN
CALSCALE:GREGORIAN
METHOD:PUBLISH
X-ORIGINAL-URL:https://thearacode.com
X-WR-CALDESC:Events for The Ara Code
REFRESH-INTERVAL;VALUE=DURATION:PT1H
X-Robots-Tag:noindex
X-PUBLISHED-TTL:PT1H
BEGIN:VTIMEZONE
TZID:Europe/Helsinki
BEGIN:DAYLIGHT
TZOFFSETFROM:+0200
TZOFFSETTO:+0300
TZNAME:EEST
DTSTART:20170326T010000
END:DAYLIGHT
BEGIN:STANDARD
TZOFFSETFROM:+0300
TZOFFSETTO:+0200
TZNAME:EET
DTSTART:20171029T010000
END:STANDARD
BEGIN:DAYLIGHT
TZOFFSETFROM:+0200
TZOFFSETTO:+0300
TZNAME:EEST
DTSTART:20180325T010000
END:DAYLIGHT
BEGIN:STANDARD
TZOFFSETFROM:+0300
TZOFFSETTO:+0200
TZNAME:EET
DTSTART:20181028T010000
END:STANDARD
BEGIN:DAYLIGHT
TZOFFSETFROM:+0200
TZOFFSETTO:+0300
TZNAME:EEST
DTSTART:20190331T010000
END:DAYLIGHT
BEGIN:STANDARD
TZOFFSETFROM:+0300
TZOFFSETTO:+0200
TZNAME:EET
DTSTART:20191027T010000
END:STANDARD
BEGIN:DAYLIGHT
TZOFFSETFROM:+0200
TZOFFSETTO:+0300
TZNAME:EEST
DTSTART:20200329T010000
END:DAYLIGHT
BEGIN:STANDARD
TZOFFSETFROM:+0300
TZOFFSETTO:+0200
TZNAME:EET
DTSTART:20201025T010000
END:STANDARD
END:VTIMEZONE
BEGIN:VEVENT
DTSTART;VALUE=DATE:20190714
DTEND;VALUE=DATE:20190728
DTSTAMP:20260424T143600
CREATED:20160310T173550Z
LAST-MODIFIED:20180504T132836Z
UID:176-1563062400-1564271999@thearacode.com
SUMMARY:Vivamus convallis tellus et tincidunt commodo
DESCRIPTION:Fusce ligula arcu\, aliquet non volutpat id\, fringilla vel massa. Phasellus tristique efficitur laoreet. Donec suscipit metus ac rutrum luctus. Quisque non tincidunt massa. Sed lacus lorem\, rhoncus ut blandit non\, facilisis ac odio. Ut id lacinia ligula. Vivamus convallis tellus et tincidunt commodo. Quisque id porttitor lectus\, eu pulvinar tortor. In lacinia\, ex id mattis accumsan\, erat nunc auctor turpis\, id pulvinar arcu elit et erat. Duis finibus tempor mollis. Nulla dictum tortor et ligula gravida porta. \nDuis sed diam aliquet\, fringilla diam at\, aliquet tortor. In vitae justo sed lacus lacinia condimentum. Vivamus porttitor ligula eget nulla fringilla\, id tincidunt tellus suscipit. Donec cursus ex eget magna venenatis vulputate. In rhoncus est dignissim metus tincidunt posuere. Vestibulum ante ipsum primis in faucibus orci luctus et ultrices posuere cubilia Curae; In lacinia\, nisi vel vehicula lacinia\, nunc nunc efficitur dolor\, non pharetra odio velit ac ligula. Morbi eget eleifend felis. Donec luctus\, purus nec sodales tincidunt\, nibh justo ornare lectus\, vel congue nunc dui vitae enim. Cras lorem orci\, gravida at vestibulum nec\, accumsan sit amet magna. Sed facilisis eget quam et sodales.
URL:https://thearacode.com/event/vivamus-convallis-tellus-et-tincidunt-commodo/
LOCATION:The International House at UC Berkeley\,  2299 Piedmont Ave. \, San Francisco\, CA 94720\, United States
CATEGORIES:Coaching
ATTACH;FMTTYPE=image/jpeg:https://thearacode.com/wp-content/uploads/2016/02/09.jpg
END:VEVENT
BEGIN:VEVENT
DTSTART;VALUE=DATE:20190505
DTEND;VALUE=DATE:20190516
DTSTAMP:20260424T143600
CREATED:20160310T155009Z
LAST-MODIFIED:20180504T132857Z
UID:175-1557014400-1557964799@thearacode.com
SUMMARY:Circle of Life Holistic Programs\, Workshops ...
DESCRIPTION:Sed orci elit\, lobortis vel faucibus in\, pretium ut ipsum. Etiam ante dolor\, lacinia in consequat eu\, tempor nec magna. Nulla luctus ante tortor\, eu vestibulum libero ultricies id. Quisque vitae pulvinar ligula\, quis sagittis quam. Maecenas tristique\, felis sit amet hendrerit porta\, erat justo lobortis tortor\, non tempor erat mi consequat velit. Sed lacus ante\, varius vitae molestie at\, ultrices sed ligula. Curabitur mattis\, neque vel tristique sagittis\, erat erat porttitor augue\, et tristique purus odio a felis. \nVivamus eu tempor nunc. Donec eu gravida diam. Class aptent taciti sociosqu ad litora torquent per conubia nostra\, per inceptos himenaeos. Praesent pretium leo augue\, ut aliquet felis porttitor in. Aenean consectetur leo ut elit rutrum\, eu aliquam arcu consequat. Quisque id sem vel odio molestie tincidunt sed non dui. Praesent in congue nulla\, ac convallis justo. Suspendisse nunc augue\, efficitur in nibh ac\, sodales pulvinar tortor. Ut tristique neque magna\, id vestibulum tortor lacinia vel. Vestibulum at ligula sit amet arcu maximus dapibus et id nisl. Maecenas vitae nisl at ipsum faucibus gravida ac vel risus. Nulla vel euismod enim. Donec porta blandit felis non tempus. Vivamus fringilla erat nisi\, quis lacinia orci vulputate quis.
URL:https://thearacode.com/event/circle-of-life-holistic-programs-workshops/
LOCATION:The International House at UC Berkeley\,  2299 Piedmont Ave. \, San Francisco\, CA 94720\, United States
CATEGORIES:Coaching
ATTACH;FMTTYPE=image/jpeg:https://thearacode.com/wp-content/uploads/2016/02/05.jpg
END:VEVENT
BEGIN:VEVENT
DTSTART;VALUE=DATE:20190414
DTEND;VALUE=DATE:20190422
DTSTAMP:20260424T143600
CREATED:20160310T173705Z
LAST-MODIFIED:20180504T132908Z
UID:177-1555200000-1555891199@thearacode.com
SUMMARY:Fusce hendrerit ac ex ac tempor
DESCRIPTION:Vestibulum quam erat\, varius eu dignissim in\, finibus ut libero. Donec cursus dolor lacus\, sed auctor lorem pretium vitae. Aliquam ut sem eu nibh iaculis ornare nec eu ante. Aliquam accumsan elit vitae tellus tristique vestibulum. Interdum et malesuada fames ac ante ipsum primis in faucibus. In malesuada quam et placerat pharetra. Vivamus vulputate sit amet ipsum id vulputate. Pellentesque congue in augue sed volutpat. Aenean id ligula malesuada\, porta ex bibendum\, faucibus nulla. Integer tempor lacus lacus\, ac egestas neque cursus a. \nMorbi eleifend\, nisi quis convallis vestibulum\, felis erat posuere dolor\, a pharetra mauris quam quis ex. Ut ac suscipit risus\, in aliquam dolor. Vestibulum ullamcorper diam sit amet nisl ornare\, ut porta ex varius. Sed fermentum\, nisl et tristique vestibulum\, orci sem fringilla libero\, eget ultricies sem risus at orci. Vestibulum elementum ut enim at pulvinar. Sed eu tellus sed magna venenatis consequat. Praesent aliquet leo eget mauris convallis\, in volutpat est molestie. Ut tempus condimentum magna et vulputate. Fusce hendrerit ac ex ac tempor. Interdum et malesuada fames ac ante ipsum primis in faucibus. In hac habitasse platea dictumst. Proin nisi felis\, pretium quis lobortis non\, facilisis sed dolor. Etiam mollis varius hendrerit. Sed interdum dolor id nisi tristique tincidunt.
URL:https://thearacode.com/event/fusce-hendrerit-ac-ex-ac-tempor/
LOCATION:The International House at UC Berkeley\,  2299 Piedmont Ave. \, San Francisco\, CA 94720\, United States
CATEGORIES:Coaching
ATTACH;FMTTYPE=image/jpeg:https://thearacode.com/wp-content/uploads/2016/02/17.jpg
END:VEVENT
BEGIN:VEVENT
DTSTART;VALUE=DATE:20180610
DTEND;VALUE=DATE:20180628
DTSTAMP:20260424T143600
CREATED:20160309T222848Z
LAST-MODIFIED:20180504T132847Z
UID:171-1528588800-1530143999@thearacode.com
SUMMARY:The Language House ~ Life Abroad Coaching ...
DESCRIPTION:Vestibulum quam erat\, varius eu dignissim in\, finibus ut libero. Donec cursus dolor lacus\, sed auctor lorem pretium vitae. Aliquam ut sem eu nibh iaculis ornare nec eu ante. Aliquam accumsan elit vitae tellus tristique vestibulum. Interdum et malesuada fames ac ante ipsum primis in faucibus. In malesuada quam et placerat pharetra. Vivamus vulputate sit amet ipsum id vulputate. Pellentesque congue in augue sed volutpat. Aenean id ligula malesuada\, porta ex bibendum\, faucibus nulla. Integer tempor lacus lacus\, ac egestas neque cursus a. \nMorbi eleifend\, nisi quis convallis vestibulum\, felis erat posuere dolor\, a pharetra mauris quam quis ex. Ut ac suscipit risus\, in aliquam dolor. Vestibulum ullamcorper diam sit amet nisl ornare\, ut porta ex varius. Sed fermentum\, nisl et tristique vestibulum\, orci sem fringilla libero\, eget ultricies sem risus at orci. Vestibulum elementum ut enim at pulvinar. Sed eu tellus sed magna venenatis consequat. Praesent aliquet leo eget mauris convallis\, in volutpat est molestie. Ut tempus condimentum magna et vulputate. Fusce hendrerit ac ex ac tempor. Interdum et malesuada fames ac ante ipsum primis in faucibus. In hac habitasse platea dictumst. Proin nisi felis\, pretium quis lobortis non\, facilisis sed dolor. Etiam mollis varius hendrerit. Sed interdum dolor id nisi tristique tincidunt.
URL:https://thearacode.com/event/the-language-house-life-abroad-coaching/
LOCATION:The International House at UC Berkeley\,  2299 Piedmont Ave. \, San Francisco\, CA 94720\, United States
CATEGORIES:Coaching
ATTACH;FMTTYPE=image/jpeg:https://thearacode.com/wp-content/uploads/2016/02/15.jpg
END:VEVENT
END:VCALENDAR